BEGIN:VCALENDAR
VERSION:2.0
PRODID:https://www.kufer.de/kuferweb / DE
METHOD:PUBLISH
CALSCALE:GREGORIAN
X-WR-TIMEZONE:Europe/Berlin
BEGIN:VTIMEZONE
TZID:Europe/Berlin
X-LIC-LOCATION:Europe/Berlin
BEGIN:DAYLIGHT
TZOFFSETFROM:+0100
TZOFFSETTO:+0200
TZNAME:CEST
DTSTART:19700329T020000
RRULE:FREQ=YEARLY;INTERVAL=1;BYDAY=-1SU;BYMONTH=3
END:DAYLIGHT
BEGIN:STANDARD
TZOFFSETFROM:+0200
TZOFFSETTO:+0100
TZNAME:CET
DTSTART:19701025T030000
RRULE:FREQ=YEARLY;INTERVAL=1;BYDAY=-1SU;BYMONTH=10
END:STANDARD
END:VTIMEZONE
BEGIN:VEVENT
DTSTAMP:20260425T131313
DTSTART;TZID=Europe/Berlin:20260420T194500
DTEND;TZID=Europe/Berlin:20260420T203000
UID:BC302145-20260420T194500@STADTVHSBALINGEN
SUMMARY:smovey®-Training (BC302145) 
LOCATION:Längenfeldschule, Gymnastikraum, 72336 Balingen
END:VEVENT
BEGIN:VEVENT
DTSTAMP:20260425T131313
DTSTART;TZID=Europe/Berlin:20260427T194500
DTEND;TZID=Europe/Berlin:20260427T203000
UID:BC302145-20260427T194500@STADTVHSBALINGEN
SUMMARY:smovey®-Training (BC302145) 
LOCATION:Längenfeldschule, Gymnastikraum, 72336 Balingen
END:VEVENT
BEGIN:VEVENT
DTSTAMP:20260425T131313
DTSTART;TZID=Europe/Berlin:20260504T194500
DTEND;TZID=Europe/Berlin:20260504T203000
UID:BC302145-20260504T194500@STADTVHSBALINGEN
SUMMARY:smovey®-Training (BC302145) 
LOCATION:Längenfeldschule, Gymnastikraum, 72336 Balingen
END:VEVENT
BEGIN:VEVENT
DTSTAMP:20260425T131313
DTSTART;TZID=Europe/Berlin:20260511T194500
DTEND;TZID=Europe/Berlin:20260511T203000
UID:BC302145-20260511T194500@STADTVHSBALINGEN
SUMMARY:smovey®-Training (BC302145) 
LOCATION:Längenfeldschule, Gymnastikraum, 72336 Balingen
END:VEVENT
END:VCALENDAR